{
 "extent": {
  "ymin": 75377.279834323665,
  "xmin": -38888.525018935608,
  "ymax": 76093.800258212825,
  "xmax": -38410.844736342835,
  "spatialReference": {
   "latestVcsWkid": 5773,
   "latestWkid": 3763,
   "wkid": 3763,
   "vcsWkid": 5773
  }
 },
 "blockWidth": 256,
 "mosaicOperator": "First",
 "serviceSourceType": "esriImageServiceSourceTypeDataset",
 "hasMultidimensions": false,
 "maxImageWidth": 15000,
 "meanValues": [
  119.26158566722,
  113.59507413509,
  103.03778418451
 ],
 "hasColormap": false,
 "compressionType": "LZW",
 "defaultCompressionQuality": 75,
 "maxValues": [
  254,
  254,
  254
 ],
 "hasHistograms": true,
 "datasetFormat": "TIFF",
 "maxImageHeight": 4100,
 "sortField": "",
 "bandNames": [
  "Red",
  "Green",
  "Blue"
 ],
 "spatialReference": {
  "latestVcsWkid": 5773,
  "latestWkid": 3763,
  "wkid": 3763,
  "vcsWkid": 5773
 },
 "fullExtent": {
  "ymin": 75377.279834323665,
  "xmin": -38888.525018935608,
  "ymax": 76093.800258212825,
  "xmax": -38410.844736342835,
  "spatialReference": {
   "latestVcsWkid": 5773,
   "latestWkid": 3763,
   "wkid": 3763,
   "vcsWkid": 5773
  }
 },
 "bandCount": 3,
 "rasterFunctionInfos": [
  {
   "help": "",
   "name": "None",
   "description": ""
  }
 ],
 "supportsStatistics": false,
 "sortableFields": "",
 "minValues": [
  1,
  1,
  1
 ],
 "allowRasterFunction": true,
 "allowComputeTiePoints": false,
 "serviceDataType": "esriImageServiceDataTypeRGB",
 "supportsAdvancedQueries": false,
 "currentVersion": 12.1,
 "heightModelInfo": {
  "vertCRS": "EGM96_height",
  "heightModel": "gravity_related_height",
  "heightUnit": "meter"
 },
 "sortValue": null,
 "objectIdField": "",
 "blockHeight": 256,
 "initialExtent": {
  "ymin": 75377.279834323665,
  "xmin": -38888.525018935608,
  "ymax": 76093.800258212825,
  "xmax": -38410.844736342835,
  "spatialReference": {
   "latestVcsWkid": 5773,
   "latestWkid": 3763,
   "wkid": 3763,
   "vcsWkid": 5773
  }
 },
 "pixelSizeX": 0.095536056518554693,
 "pixelSizeY": 0.095536056518554693,
 "defaultMosaicMethod": "Center",
 "name": "Expofacic_2025_True_Ortho",
 "allowedMosaicMethods": "",
 "fields": [],
 "allowAnalysis": true,
 "hasRasterAttributeTable": false,
 "useStandardizedQueries": false,
 "description": "",
 "pixelType": "U8",
 "meanPixelSize": 0.095536056518554693,
 "exportTilesAllowed": false,
 "editFieldsInfo": null,
 "rasterTypeInfos": [
  {
   "help": "",
   "name": "Raster Dataset",
   "description": "Supports all ArcGIS Raster Datasets"
  }
 ],
 "defaultResamplingMethod": "Bilinear",
 "itemAccess": false,
 "minScale": 0,
 "serviceProperties": "Center<\/MosaicMethod>First<\/MosaicOperator>true<\/SortAscending><\/LockImageID><\/TileOrderField>0<\/TileOrderBase>0,000000<\/AvgImageSpacingX>0,000000<\/AvgImageSpacingY>0.0<\/ViewPointX>0.0<\/ViewPointY>0.0<\/ViewPointDefShiftX>0.0<\/ViewPointDefShiftY>None<\/CompressionMethod>75<\/CompressionQuality>0,010000<\/CompressionTolerance>Bilinear<\/SamplingMethod><\/ImageServiceProperties><\/ImageServer>",
 "advancedQueryCapabilities": {
  "supportsStatistics": false,
  "supportsSqlExpression": false,
  "supportsOrderBy": false,
  "useStandardizedQueries": false,
  "supportsPagination": false,
  "supportsDistinct": false
 },
 "capabilities": "Image,Metadata,Mensuration",
 "maxScale": 0,
 "stdvValues": [
  48.415897077522999,
  46.953250958833003,
  50.521424565471001
 ],
 "allowedFields": "",
 "minPixelSize": 0,
 "noDataValues": [
  0,
  0,
  0
 ],
 "sortAscending": true,
 "inspectionCapabilities": "",
 "maxPixelSize": 0,
 "noDataValue": 0,
 "allowedCompressions": "None,JPEG,LZ77,LERC",
 "uncompressedSize": 112485000,
 "serviceDescription": "Expofacic_2025_True_Ortho",
 "allowCopy": true,
 "copyrightText": "",
 "mensurationCapabilities": "Basic",
 "ownershipBasedAccessControlForRasters": null
}
