View In:
ArcGIS JavaScript
ArcGIS Online Map Viewer
ArcGIS Earth
Service Description: Expofacic_2024_True_Ortho_tif
Name: Expofacic_2024_True_Ortho_tif
Description:
Single Fused Map Cache: false
Extent:
XMin: -38886.95868118662
YMin: 75392.37001630946
XMax: -38375.83717544931
YMax: 76089.35388776942
Spatial Reference: 3763
(3763)
VCSWkid(5773)
LatestVCSWkid(5773)
Initial Extent:
XMin: -38886.95868118662
YMin: 75392.37001630946
XMax: -38375.83717544931
YMax: 76089.35388776942
Spatial Reference: 3763
(3763)
VCSWkid(5773)
LatestVCSWkid(5773)
Full Extent:
XMin: -38886.95868118662
YMin: 75392.37001630946
XMax: -38375.83717544931
YMax: 76089.35388776942
Spatial Reference: 3763
(3763)
VCSWkid(5773)
LatestVCSWkid(5773)
Pixel Size X: 0.09293118286132812
Pixel Size Y: 0.09293118286132812
Band Count: 3
Pixel Type: U8
RasterFunction Infos: {"rasterFunctionInfos": [{
"name": "None",
"description": "",
"help": ""
}]}
Mensuration Capabilities: Basic
Inspection Capabilities:
Has Histograms: true
Has Colormap: false
Has Multi Dimensions : false
Rendering Rule:
Min Scale: 0
Max Scale: 0
Resampling: false
Copyright Text:
Service Data Type: esriImageServiceDataTypeRGB
Min Values: 1, 1, 1
Max Values: 203, 204, 202
Mean Values: 83.000782494707, 76.955522839569, 69.909077341938
Standard Deviation Values: 37.548748899819, 35.332077035828, 35.941711084145
Object ID Field:
Fields:
None
Default Mosaic Method: Center
Allowed Mosaic Methods:
SortField:
SortValue: null
Mosaic Operator: First
Default Compression Quality: 75
Default Resampling Method: Bilinear
Max Record Count: null
Max Image Height: 4100
Max Image Width: 15000
Max Download Image Count: null
Max Mosaic Image Count: null
Allow Raster Function: true
Allow Copy: true
Allow Analysis: true
Allow Compute TiePoints: false
Supports Statistics: false
Supports Advanced Queries: false
Use StandardizedQueries: true
Raster Type Infos:
Name: Raster Dataset
Description: Supports all ArcGIS Raster Datasets
Help:
Has Raster Attribute Table: false
Edit Fields Info: null
Ownership Based AccessControl For Rasters: null
Child Resources:
Info
Histograms
Statistics
Key Properties
Legend
Raster Function Infos
Supported Operations:
Export Image
Identify
Measure
Compute Histograms
Compute Statistics Histograms
Get Samples
Compute Class Statistics
Query Boundary
Compute Pixel Location
Compute Angles
Validate
Project