View In:
ArcGIS JavaScript
ArcGIS Online Map Viewer
ArcGIS Earth
Service Description: Expofacic_2025_True_Ortho
Name: Expofacic_2025_True_Ortho
Description:
Single Fused Map Cache: false
Extent:
XMin: -38888.52501893561
YMin: 75377.27983432366
XMax: -38410.844736342835
YMax: 76093.80025821282
Spatial Reference: 3763
(3763)
VCSWkid(5773)
LatestVCSWkid(5773)
Initial Extent:
XMin: -38888.52501893561
YMin: 75377.27983432366
XMax: -38410.844736342835
YMax: 76093.80025821282
Spatial Reference: 3763
(3763)
VCSWkid(5773)
LatestVCSWkid(5773)
Full Extent:
XMin: -38888.52501893561
YMin: 75377.27983432366
XMax: -38410.844736342835
YMax: 76093.80025821282
Spatial Reference: 3763
(3763)
VCSWkid(5773)
LatestVCSWkid(5773)
Pixel Size X: 0.0955360565185547
Pixel Size Y: 0.0955360565185547
Band Count: 3
Pixel Type: U8
RasterFunction Infos: {"rasterFunctionInfos": [{
"help": "",
"name": "None",
"description": ""
}]}
Mensuration Capabilities: Basic
Inspection Capabilities:
Has Histograms: true
Has Colormap: false
Has Multi Dimensions : false
Rendering Rule:
Min Scale: 0
Max Scale: 0
Copyright Text:
Service Data Type: esriImageServiceDataTypeRGB
Min Values: 1, 1, 1
Max Values: 254, 254, 254
Mean Values: 119.26158566722, 113.59507413509, 103.03778418451
Standard Deviation Values: 48.415897077522999, 46.953250958833003, 50.521424565471001
Object ID Field:
Fields:
None
Default Mosaic Method: Center
Allowed Mosaic Methods:
SortField:
SortValue: N/A
Mosaic Operator: First
Default Compression Quality: 75
Default Resampling Method: Bilinear
Max Record Count: null
Max Image Height: 4100
Max Image Width: 15000
Max Download Image Count: null
Max Mosaic Image Count: null
Allow Raster Function: true
Allow Copy: true
Allow Analysis: true
Allow Compute TiePoints: false
Supports Statistics: false
Supports Advanced Queries: false
Use StandardizedQueries: false
Raster Type Infos:
Name: Raster Dataset
Description: Supports all ArcGIS Raster Datasets
Help:
Has Raster Attribute Table: false
Edit Fields Info: N/A
Ownership Based AccessControl For Rasters: N/A
Child Resources:
Info
Histograms
Statistics
Key Properties
Legend
Raster Function Infos
Supported Operations:
Export Image
Identify
Measure
Compute Histograms
Compute Statistics Histograms
Get Samples
Compute Class Statistics
Query Boundary
Compute Pixel Location
Compute Angles
Validate
Project